BEGIN:VCALENDAR
VERSION:2.0
PRODID:Imitheme.com 
BEGIN:VEVENT
UID:20260423T1617041317455185
DTSTAMP;TZID=UTC:2026-04-23 16:17:04
DTSTART;TZID=America/Los_Angeles:20300210T000000
DTEND;TZID=America/Los_Angeles:20300210T000000
SUMMARY:Jungschar
LOCATION:Fleischhauerstr. 7\, 59555 Lippstadt
DESCRIPTION:Für Kinder zwischen 10 und 14 Jahren.
URL:https://christliche-gemeinde-lippstadt.de/eventer/jungschar/
END:VEVENT
END:VCALENDAR
