BEGIN:VCALENDAR
VERSION:2.0
PRODID:Imitheme.com 
BEGIN:VEVENT
UID:20260422T0910061972191016
DTSTAMP;TZID=UTC:2026-04-22 09:10:06
DTSTART;TZID=America/Los_Angeles:20300703T000000
DTEND;TZID=America/Los_Angeles:20300703T000000
SUMMARY:Frauenstunde
LOCATION:Fleischhauerstr. 7\, 59555 Lippstadt
DESCRIPTION:Alle Frauen sind herzlich eingeladen. Wir wollen gemeinsam ein Thema betrachten, singen, beten und fröhliche Gemeinschaft haben.
URL:https://christliche-gemeinde-lippstadt.de/eventer/frauenstunde/
END:VEVENT
END:VCALENDAR
