BEGIN:VCALENDAR
VERSION:2.0
PRODID:Imitheme.com 
BEGIN:VEVENT
UID:20260424T1759471194573667
DTSTAMP;TZID=UTC:2026-04-24 17:59:47
DTSTART;TZID=America/Los_Angeles:20290126T000000
DTEND;TZID=America/Los_Angeles:20290126T000000
SUMMARY:Kinderstunde mit Spiel und Spaß
LOCATION:Fleischhauerstr. 7\, 59555 Lippstadt
DESCRIPTION:Während der Bibelstunde gibt es ein Programm für Kinder.
URL:https://christliche-gemeinde-lippstadt.de/eventer/kinderstunde-mit-spiel-und-spass/
END:VEVENT
END:VCALENDAR
