BEGIN:VCALENDAR
VERSION:2.0
PRODID:Imitheme.com 
BEGIN:VEVENT
UID:20260424T1448091598858194
DTSTAMP;TZID=UTC:2026-04-24 14:48:09
DTSTART;TZID=America/Los_Angeles:20290114T000000
DTEND;TZID=America/Los_Angeles:20290114T000000
SUMMARY:Jungschar
LOCATION:Fleischhauerstr. 7\, 59555 Lippstadt
DESCRIPTION:Für Kinder zwischen 10 und 14 Jahren.
URL:https://christliche-gemeinde-lippstadt.de/eventer/jungschar/
END:VEVENT
END:VCALENDAR
