BEGIN:VCALENDAR
VERSION:2.0
PRODID:Imitheme.com 
BEGIN:VEVENT
UID:20260423T1943021661388451
DTSTAMP;TZID=UTC:2026-04-23 19:43:02
DTSTART;TZID=America/Los_Angeles:20290928T000000
DTEND;TZID=America/Los_Angeles:20290928T000000
SUMMARY:Bibel- und Gebetsstunde
LOCATION:Fleischhauerstr. 7\, 59555 Lippstadt
DESCRIPTION:Hier treffen wir uns zum Bibelstudium mit einer abschließenden Gebetszeit.
URL:https://christliche-gemeinde-lippstadt.de/eventer/bibel-und-gebetsstunde/
END:VEVENT
END:VCALENDAR
