BEGIN:VCALENDAR
VERSION:2.0
PRODID:Imitheme.com 
BEGIN:VEVENT
UID:20260424T1155001620306254
DTSTAMP;TZID=UTC:2026-04-24 11:55:00
DTSTART;TZID=America/Los_Angeles:20290406T000000
DTEND;TZID=America/Los_Angeles:20290406T000000
SUMMARY:Jugend
LOCATION:Fleischhauerstr. 7\, 59555 Lippstadt
DESCRIPTION:Die Jugend ist für Jugendliche ab 15 Jahren.
URL:https://christliche-gemeinde-lippstadt.de/eventer/jugend/
END:VEVENT
END:VCALENDAR
