BEGIN:VCALENDAR
VERSION:2.0
PRODID:Imitheme.com 
BEGIN:VEVENT
UID:20260422T033430764726278
DTSTAMP;TZID=UTC:2026-04-22 03:34:30
DTSTART;TZID=America/Los_Angeles:20270310T000000
DTEND;TZID=America/Los_Angeles:20270310T000000
SUMMARY:Gebetskreis über Zoom
LOCATION:
DESCRIPTION:Wir treffen uns über Zoom, um gemeinsam für verschiedene Anliegen zu beten. Wenn du teilnehmen möchtest schreibe bitte eine E-Mail an info@cg-lippstadt.de.
URL:https://christliche-gemeinde-lippstadt.de/eventer/gebetskreis-ueber-zoom/
END:VEVENT
END:VCALENDAR
