BEGIN:VCALENDAR
VERSION:2.0
PRODID:Imitheme.com 
BEGIN:VEVENT
UID:20260420T232456586044242
DTSTAMP;TZID=UTC:2026-04-20 23:24:56
DTSTART;TZID=America/Los_Angeles:20270806T000000
DTEND;TZID=America/Los_Angeles:20270806T000000
SUMMARY:Kinderstunde mit Musik
LOCATION:Fleischhauerstr. 7\, 59555 Lippstadt
DESCRIPTION:Alle zwei Wochen gibt es Musik und Musiktheorie für die Kinder mit Andy und Ortwin.
URL:https://christliche-gemeinde-lippstadt.de/eventer/kinderstunde-mit-musik/
END:VEVENT
END:VCALENDAR
