BEGIN:VCALENDAR
VERSION:2.0
PRODID:Imitheme.com 
BEGIN:VEVENT
UID:20260422T1310231095654641
DTSTAMP;TZID=UTC:2026-04-22 13:10:23
DTSTART;TZID=America/Los_Angeles:20270430T000000
DTEND;TZID=America/Los_Angeles:20270430T000000
SUMMARY:Bibel- und Gebetsstunde
LOCATION:Fleischhauerstr. 7\, 59555 Lippstadt
DESCRIPTION:Hier treffen wir uns zum Bibelstudium mit einer abschließenden Gebetszeit.
URL:https://christliche-gemeinde-lippstadt.de/eventer/bibel-und-gebetsstunde/
END:VEVENT
END:VCALENDAR
