BEGIN:VCALENDAR
VERSION:2.0
PRODID:Imitheme.com 
BEGIN:VEVENT
UID:20260421T0919081405006367
DTSTAMP;TZID=UTC:2026-04-21 09:19:08
DTSTART;TZID=America/Los_Angeles:20260927T000000
DTEND;TZID=America/Los_Angeles:20260927T000000
SUMMARY:Jungschar
LOCATION:Fleischhauerstr. 7\, 59555 Lippstadt
DESCRIPTION:Für Kinder zwischen 10 und 14 Jahren.
URL:https://christliche-gemeinde-lippstadt.de/eventer/jungschar/
END:VEVENT
END:VCALENDAR
