BEGIN:VCALENDAR
VERSION:2.0
PRODID:Imitheme.com 
BEGIN:VEVENT
UID:20260420T0819561526086949
DTSTAMP;TZID=UTC:2026-04-20 08:19:56
DTSTART;TZID=America/Los_Angeles:20260619T000000
DTEND;TZID=America/Los_Angeles:20260619T000000
SUMMARY:Gemeindestunde
LOCATION:Fleischhauerstr. 7\, 59555 Lippstadt
DESCRIPTION:Diese Stunde ist nur für Mitglieder der Gemeinde gedacht. Hier planen wir zukünftige Veranstaltungen, Investitionen und besprechen andere wichtige Belange der Gemeinde.
URL:https://christliche-gemeinde-lippstadt.de/eventer/gemeindestunde/
END:VEVENT
END:VCALENDAR
